{"text_format":"1","workbook":"xlsx","n_sheets":7,"sheets":["直接入力私学共通調査書","私立共通調査書","学校情報","生徒基礎情報","評定","出席状況・健康状態","所見・資格表彰など"],"not_rendered":{"charts":0,"images":0,"macros":1,"external_links":1,"defined_names":5,"comments":0,"pivot_tables":0},"unopened":[],"bounds":{"document_bytes":16777216,"sheet_cells":100000,"rows_first":2000,"rows_last":500,"rows_between":2000,"halvings":0,"cell_chars":16384,"cell_head_chars":4096},"cells_cut":0,"cells_raw":0,"read":"whole","date_system":"1900"}

{"sheet":"直接入力私学共通調査書","index":0,"n_rows":47,"n_cols":30,"rows_kept":47,"cut":false,"hidden":false,"merged":[[42,5,43,15],[42,17,44,18],[42,22,43,27],[43,2,43,4],[34,2,34,3],[34,4,34,8],[34,9,34,30],[35,0,35,8],[36,1,36,29],[40,3,40,4],[40,5,40,7],[40,10,40,12],[40,13,40,14],[40,15,40,17],[31,0,34,1],[31,2,31,3],[31,4,31,8],[31,9,31,30],[32,2,32,3],[32,4,32,8],[32,9,32,30],[33,2,33,3],[33,4,33,8],[33,9,33,30],[30,0,30,3],[30,4,30,30],[24,0,25,3],[24,4,25,8],[24,9,25,14],[24,15,25,18],[25,19,29,20],[25,21,29,30],[26,0,27,3],[26,4,27,8],[26,9,27,14],[26,15,27,18],[20,19,24,20],[20,21,24,30],[22,0,23,3],[22,4,23,8],[22,9,23,14],[22,15,23,18],[28,0,29,3],[28,4,29,8],[28,9,29,14],[28,15,29,18],[16,0,17,3],[16,4,17,8],[16,9,17,14],[16,15,17,18],[18,0,19,3],[18,4,19,8],[18,9,19,14],[18,15,19,18],[20,0,21,3],[20,4,21,8],[20,9,21,14],[20,15,21,18],[12,9,13,14],[12,15,13,18],[14,0,15,3],[14,4,15,8],[14,9,15,14],[14,15,15,18],[7,26,9,26],[10,0,10,18],[10,19,14,20],[10,21,14,30],[11,0,11,3],[11,4,11,8],[11,9,11,14],[11,15,11,18],[12,0,13,3],[12,4,13,8],[7,19,9,20],[7,21,9,21],[7,22,9,22],[7,23,9,23],[7,24,9,24],[7,25,9,25],[15,19,19,20],[15,21,19,30],[4,21,6,21],[4,22,6,22],[4,23,6,23],[4,24,6,24],[4,25,6,25],[4,26,6,26],[4,0,9,3],[4,4,9,5],[4,6,9,7],[4,8,9,9],[4,10,9,11],[4,12,9,13],[4,14,9,15],[4,16,9,18],[4,19,6,20],[0,13,0,19],[0,23,1,25],[0,26,1,30],[1,13,1,19],[2,0,2,3],[2,4,2,16],[2,17,2,18],[2,19,3,20],[2,21,3,28],[2,29,3,29],[3,0,3,3],[3,4,3,16],[3,17,3,18]]}
[null,null,null,null,null,null,null,null,null,null,null,null,null,{"$f":"\"令和\"&DBCS(学校情報!D15)&\"年度\"","v":"令和７年度"},null,null,null,null,null,null,null,null,null,"受験番号",null,null,"※"]
[null,null,null,null,null,null,null,null,null,null,null,null,null,"調査書"]
["ふりがな",null,null,null,null,null,null,null,null,null,null,null,null,null,null,null,null,"性　別",null,"学校名",null,null,null,null,null,null,null,null,null,"学校"]
["氏　　名"]
["生年月日",null,null,null,"平成",null,null,null,"年",null,null,null,"月",null,null,null," 日 生",null,null,"令和",null,null,"年",null,"月",null,"日"]
[null,null,null,null,null,null,null,null,null,null,null,null,null,null,null,null,null,null,null,null,null,null,null,null,null,null,null,"入　学","･","転入学"]
[]
[null,null,null,null,null,null,null,null,null,null,null,null,null,null,null,null,null,null,null,"令和",null,null,"年",null,"月",null,"日"]
[null,null,null,null,null,null,null,null,null,null,null,null,null,null,null,null,null,null,null,null,null,null,null,null,null,null,null,"卒　業","･","卒業見込"]
[]
["学業成績の記録（評定）",null,null,null,null,null,null,null,null,null,null,null,null,null,null,null,null,null,null,"部活動等"]
["教    科",null,null,null,"1　年",null,null,null,null,"2　年",null,null,null,null,null,"3　年"]
["国    語"]
[]
["社    会"]
[null,null,null,null,null,null,null,null,null,null,null,null,null,null,null,null,null,null,null,"奉 　 仕\n活 動 等"]
["数    学"]
[]
["理 　 科"]
[]
["音    楽",null,null,null,null,null,null,null,null,null,null,null,null,null,null,null,null,null,null,"資 格 ・\n特 技 等"]
[]
["美    術"]
[]
["保健体育"]
[null,null,null,null,null,null,null,null,null,null,null,null,null,null,null,null,null,null,null,"学 級 ・\n生 徒 会\n活 動 等"]
["技術家庭"]
[]
["外 国 語"]
[]
["健康状態"]
["出欠の記録",null,"学年",null,"欠席日数",null,null,null,null,"欠席のおもな理由 ／ 遅刻・早退が それぞれ年間10日以上ある場合は その回数と理由を記入"]
[null,null,"1 年"]
[null,null,"2 年"]
[null,null,"3 年"]
[" 《総合所見》"]
[]
[]
[null,null,"上記の記載事項に誤りのないことを証明する"]
[]
[null,null,null,"令和",null,null,null,null,"年",null,null,null,null,"月",null,null,null,null,"日"]
[null,null,null,null,null,null,null,null,null,null,null,null,null,null,null,null,null,null,null,null,"記載責任者"]
[null,null,null,null,null,null,null,null,null,null,null,null,null,null,null,null,null,"校長\n職印"]
[null,null,"校長氏名",null,null,null,null,null,null,null,null,null,null,null,null,null,null,null,null,null,"氏　名",null,null,null,null,null,null,null,"印"]
[]
[]
["　※この用紙は、宮崎県内私立高校共通のものです。"]

{"sheet":"私立共通調査書","index":1,"n_rows":48,"n_cols":36,"rows_kept":48,"cut":false,"hidden":false,"merged":[[0,3,0,7],[0,8,0,10],[1,14,1,20],[1,24,2,26],[1,27,2,31],[2,14,2,20],[3,1,3,4],[3,30,4,30],[5,20,7,21],[4,1,4,4],[4,5,4,17],[4,18,4,19],[5,1,10,4],[8,22,10,22],[8,23,10,23],[8,24,10,24],[8,25,10,25],[8,26,10,26],[8,27,10,27],[5,5,10,6],[5,9,10,10],[5,11,10,12],[5,13,10,14],[5,15,10,16],[5,7,10,8],[5,17,10,19],[5,22,7,22],[5,23,7,23],[5,24,7,24],[5,25,7,25],[5,26,7,26],[5,27,7,27],[8,20,10,21],[25,5,26,9],[27,5,28,9],[29,5,30,9],[32,5,32,9],[21,5,22,9],[23,5,24,9],[21,10,22,15],[4,33,4,35],[3,5,3,17],[3,18,3,19],[3,20,4,21],[3,22,4,29],[11,20,15,21],[16,20,20,21],[21,20,25,21],[26,20,30,21],[11,22,15,31],[16,22,20,31],[21,22,25,31],[26,22,30,31],[11,1,11,19],[12,16,12,19],[13,10,14,15],[13,16,14,19],[41,16,41,18],[43,18,45,19],[43,23,44,28],[33,3,33,4],[34,3,34,4],[41,4,41,5],[41,6,41,8],[41,11,41,13],[41,14,41,15],[43,6,44,16],[44,3,44,5],[33,5,33,9],[34,5,34,9],[35,5,35,9],[35,3,35,4],[15,10,16,15],[15,16,16,19],[17,10,18,15],[17,16,18,19],[19,16,20,19],[12,1,12,4],[13,1,14,4],[15,1,16,4],[17,1,18,4],[19,1,20,4],[13,5,14,9],[15,5,16,9],[17,5,18,9],[19,5,20,9],[19,10,20,15],[12,5,12,9],[12,10,12,15],[21,16,22,19],[23,10,24,15],[23,16,24,19],[25,10,26,15],[25,16,26,19],[34,10,34,31],[35,10,35,31],[36,1,36,9],[37,2,37,30],[27,10,28,15],[27,16,28,19],[29,10,30,15],[29,16,30,19],[31,5,31,31],[32,10,32,31],[33,10,33,31],[23,1,24,4],[25,1,26,4],[27,1,28,4],[29,1,30,4],[31,1,31,4],[32,1,35,2],[32,3,32,4],[21,1,22,4]]}
[null,null,null,"Current No",null,null,null,null,1]
[null,null,null,null,null,null,null,null,null,null,null,null,null,null,{"$f":"\"令和\"&DBCS(学校情報!D15)&\"年度\"","v":"令和７年度"},null,null,null,null,null,null,null,null,null,"受験番号",null,null,"※"]
[null,null,null,null,null,null,null,null,null,null,null,null,null,null,"調査書"]
[null,"ふりがな",null,null,null,{"$f":"IF(VLOOKUP(I1,生徒基礎情報!$A$2:$G$41,3)=\"\",\"\",VLOOKUP(I1,生徒基礎情報!A2:$G$41,3))","v":""},null,null,null,null,null,null,null,null,null,null,null,null,"性　別",null,"学校名",null,{"$f":"学校情報!D3","v":0},null,null,null,null,null,null,null,"学校"]
[null,"氏　　名",null,null,null,{"$f":"IF(VLOOKUP(I1,生徒基礎情報!$A$2:$G$41,4)=\"\",\"\",VLOOKUP(I1,生徒基礎情報!A2:$G$41,4))","v":""},null,null,null,null,null,null,null,null,null,null,null,null,{"$f":"IF(VLOOKUP(I1,生徒基礎情報!A2:K41,5)=\"\",\"\",VLOOKUP(I1,生徒基礎情報!A2:K41,5))","v":""},null,null,null,null,null,null,null,null,null,null,null,null,null,null,"【セルの枠線】\n入学・転 入 学\n卒業・卒業見込"]
[null,"生年月日",null,null,null,"平成",null,{"$f":"IF(VLOOKUP(I1,生徒基礎情報!A2:G41,6)=\"\",\"\",YEAR(VLOOKUP(I1,生徒基礎情報!A2:G41,6))-1988)","v":""},null,"年",null,{"$f":"IF(VLOOKUP(I1,生徒基礎情報!A2:G41,6)=\"\",\"\",MONTH(VLOOKUP(I1,生徒基礎情報!A2:G41,6)))","v":""},null,"月",null,{"$f":"IF(VLOOKUP(I1,生徒基礎情報!A2:G41,6)=\"\",\"\",DAY(VLOOKUP(I1,生徒基礎情報!A2:G41,6)))","v":""},null," 日 生",null,null,"令和",null,{"$f":"学校情報!E5","v":0},"年",{"$f":"学校情報!G5","v":4},"月",{"$f":"学校情報!I5","v":1},"日"]
[null,null,null,null,null,null,null,null,null,null,null,null,null,null,null,null,null,null,null,null,null,null,null,null,null,null,null,null,"入　学","･","転入学",null,null,{"$f":"VLOOKUP($I$1,生徒基礎情報!$A$2:$K$41,8)","v":0},null,{"$f":"VLOOKUP($I$1,生徒基礎情報!$A$2:$K$41,9)","v":0}]
[]
[null,null,null,null,null,null,null,null,null,null,null,null,null,null,null,null,null,null,null,null,"令和",null,{"$f":"学校情報!E7","v":0},"年",{"$f":"学校情報!G7","v":3},"月",{"$f":"学校情報!I7","v":0},"日"]
[null,null,null,null,null,null,null,null,null,null,null,null,null,null,null,null,null,null,null,null,null,null,null,null,null,null,null,null,"卒　業","･","卒業見込",null,null,{"$f":"VLOOKUP($I$1,生徒基礎情報!$A$2:$K$41,10)","v":0},null,{"$f":"VLOOKUP($I$1,生徒基礎情報!$A$2:$K$41,11)","v":0}]
[]
[null,"学業成績の記録（評定）",null,null,null,null,null,null,null,null,null,null,null,null,null,null,null,null,null,null,"部活動等",null,{"$f":"IF(VLOOKUP(I1,所見・資格表彰など!A3:H42,3)=\"\",\"\",VLOOKUP(I1,所見・資格表彰など!A3:H42,3))","v":""}]
[null,"教    科",null,null,null,"1　年",null,null,null,null,"2　年",null,null,null,null,null,"3　年"]
[null,"国    語",null,null,null,{"$f":"IF(VLOOKUP($I$1,評定!$A$3:$K$42,3)=\"\",\"\",VLOOKUP($I$1,評定!$A$3:$K$42,3))","v":""},null,null,null,null,{"$f":"IF(VLOOKUP($I$1,評定!$A$3:$AE$42,13)=\"\",\"\",VLOOKUP($I$1,評定!$A$3:$AE$42,13))","v":""},null,null,null,null,null,{"$f":"IF(VLOOKUP($I$1,評定!$A$3:$AE$42,23)=\"\",\"\",VLOOKUP($I$1,評定!$A$3:$AE$42,23))","v":""}]
[]
[null,"社    会",null,null,null,{"$f":"IF(VLOOKUP($I$1,評定!$A$3:$K$42,4)=\"\",\"\",VLOOKUP($I$1,評定!$A$3:$K$42,4))","v":""},null,null,null,null,{"$f":"IF(VLOOKUP($I$1,評定!$A$3:$AE$42,14)=\"\",\"\",VLOOKUP($I$1,評定!$A$3:$AE$42,14))","v":""},null,null,null,null,null,{"$f":"IF(VLOOKUP($I$1,評定!$A$3:$AE$42,24)=\"\",\"\",VLOOKUP($I$1,評定!$A$3:$AE$42,24))","v":""}]
[null,null,null,null,null,null,null,null,null,null,null,null,null,null,null,null,null,null,null,null,"奉 　 仕\n活 動 等",null,{"$f":"IF(VLOOKUP(I1,所見・資格表彰など!A3:H42,4)=\"\",\"\",VLOOKUP(I1,所見・資格表彰など!A3:H42,4))","v":""}]
[null,"数    学",null,null,null,{"$f":"IF(VLOOKUP($I$1,評定!$A$3:$K$42,5)=\"\",\"\",VLOOKUP($I$1,評定!$A$3:$K$42,5))","v":""},null,null,null,null,{"$f":"IF(VLOOKUP($I$1,評定!$A$3:$AE$42,15)=\"\",\"\",VLOOKUP($I$1,評定!$A$3:$AE$42,15))","v":""},null,null,null,null,null,{"$f":"IF(VLOOKUP($I$1,評定!$A$3:$AE$42,25)=\"\",\"\",VLOOKUP($I$1,評定!$A$3:$AE$42,25))","v":""}]
[]
[null,"理 　 科",null,null,null,{"$f":"IF(VLOOKUP($I$1,評定!$A$3:$K$42,6)=\"\",\"\",VLOOKUP($I$1,評定!$A$3:$K$42,6))","v":""},null,null,null,null,{"$f":"IF(VLOOKUP($I$1,評定!$A$3:$AE$42,16)=\"\",\"\",VLOOKUP($I$1,評定!$A$3:$AE$42,16))","v":""},null,null,null,null,null,{"$f":"IF(VLOOKUP($I$1,評定!$A$3:$AE$42,26)=\"\",\"\",VLOOKUP($I$1,評定!$A$3:$AE$42,26))","v":""}]
[]
[null,"音    楽",null,null,null,{"$f":"IF(VLOOKUP($I$1,評定!$A$3:$K$42,7)=\"\",\"\",VLOOKUP($I$1,評定!$A$3:$K$42,7))","v":""},null,null,null,null,{"$f":"IF(VLOOKUP($I$1,評定!$A$3:$AE$42,17)=\"\",\"\",VLOOKUP($I$1,評定!$A$3:$AE$42,17))","v":""},null,null,null,null,null,{"$f":"IF(VLOOKUP($I$1,評定!$A$3:$AE$42,27)=\"\",\"\",VLOOKUP($I$1,評定!$A$3:$AE$42,27))","v":""},null,null,null,"資 格 ・\n特 技 等",null,{"$f":"IF(VLOOKUP(I1,所見・資格表彰など!A3:H42,5)=\"\",\"\",VLOOKUP(I1,所見・資格表彰など!A3:H42,5))","v":""}]
[]
[null,"美    術",null,null,null,{"$f":"IF(VLOOKUP($I$1,評定!$A$3:$K$42,8)=\"\",\"\",VLOOKUP($I$1,評定!$A$3:$K$42,8))","v":""},null,null,null,null,{"$f":"IF(VLOOKUP($I$1,評定!$A$3:$AE$42,18)=\"\",\"\",VLOOKUP($I$1,評定!$A$3:$AE$42,18))","v":""},null,null,null,null,null,{"$f":"IF(VLOOKUP($I$1,評定!$A$3:$AE$42,28)=\"\",\"\",VLOOKUP($I$1,評定!$A$3:$AE$42,28))","v":""}]
[]
[null,"保健体育",null,null,null,{"$f":"IF(VLOOKUP($I$1,評定!$A$3:$K$42,9)=\"\",\"\",VLOOKUP($I$1,評定!$A$3:$K$42,9))","v":""},null,null,null,null,{"$f":"IF(VLOOKUP($I$1,評定!$A$3:$AE$42,19)=\"\",\"\",VLOOKUP($I$1,評定!$A$3:$AE$42,19))","v":""},null,null,null,null,null,{"$f":"IF(VLOOKUP($I$1,評定!$A$3:$AE$42,29)=\"\",\"\",VLOOKUP($I$1,評定!$A$3:$AE$42,29))","v":""}]
[null,null,null,null,null,null,null,null,null,null,null,null,null,null,null,null,null,null,null,null,"学 級 ・\n生 徒 会\n活 動 等",null,{"$f":"IF(VLOOKUP(I1,所見・資格表彰など!A3:H42,6)=\"\",\"\",VLOOKUP(I1,所見・資格表彰など!A3:H42,6))","v":""}]
[null,"技術家庭",null,null,null,{"$f":"IF(VLOOKUP($I$1,評定!$A$3:$K$42,10)=\"\",\"\",VLOOKUP($I$1,評定!$A$3:$K$42,10))","v":""},null,null,null,null,{"$f":"IF(VLOOKUP($I$1,評定!$A$3:$AE$42,20)=\"\",\"\",VLOOKUP($I$1,評定!$A$3:$AE$42,20))","v":""},null,null,null,null,null,{"$f":"IF(VLOOKUP($I$1,評定!$A$3:$AE$42,30)=\"\",\"\",VLOOKUP($I$1,評定!$A$3:$AE$42,30))","v":""}]
[]
[null,"外 国 語",null,null,null,{"$f":"IF(VLOOKUP($I$1,評定!$A$3:$K$42,11)=\"\",\"\",VLOOKUP($I$1,評定!$A$3:$K$42,11))","v":""},null,null,null,null,{"$f":"IF(VLOOKUP($I$1,評定!$A$3:$AE$42,21)=\"\",\"\",VLOOKUP($I$1,評定!$A$3:$AE$42,21))","v":""},null,null,null,null,null,{"$f":"IF(VLOOKUP($I$1,評定!$A$3:$AE$42,31)=\"\",\"\",VLOOKUP($I$1,評定!$A$3:$AE$42,31))","v":""}]
[]
[null,"健康状態",null,null,null,{"$f":"IF(VLOOKUP(I1,所見・資格表彰など!A3:H42,7)=\"\",\"\",VLOOKUP(I1,所見・資格表彰など!A3:H42,7))","v":""}]
[null,"出欠の記録",null,"学年",null,"欠席日数",null,null,null,null,"欠席のおもな理由 ／ 遅刻・早退が それぞれ年間10日以上ある場合は その回数と理由を記入"]
[null,null,null,"1 年",null,{"$f":"IF(VLOOKUP($I$1,出席状況・健康状態!$A$3:$H$42,3)=\"\",\"\",VLOOKUP($I$1,出席状況・健康状態!$A$3:$H$42,3))","v":""},null,null,null,null,{"$f":"IF(VLOOKUP($I$1,出席状況・健康状態!$A$3:$H$42,4)=\"\",\"\",\" \"&VLOOKUP($I$1,出席状況・健康状態!$A$3:$H$42,4))","v":""}]
[null,null,null,"2 年",null,{"$f":"IF(VLOOKUP($I$1,出席状況・健康状態!$A$3:$H$42,5)=\"\",\"\",VLOOKUP($I$1,出席状況・健康状態!$A$3:$H$42,5))","v":""},null,null,null,null,{"$f":"IF(VLOOKUP($I$1,出席状況・健康状態!$A$3:$H$42,6)=\"\",\"\",\" \"&VLOOKUP($I$1,出席状況・健康状態!$A$3:$H$42,6))","v":""}]
[null,null,null,"3 年",null,{"$f":"IF(VLOOKUP($I$1,出席状況・健康状態!$A$3:$H$42,7)=\"\",\"\",VLOOKUP($I$1,出席状況・健康状態!$A$3:$H$42,7))","v":""},null,null,null,null,{"$f":"IF(VLOOKUP($I$1,出席状況・健康状態!$A$3:$H$42,8)=\"\",\"\",\" \"&VLOOKUP($I$1,出席状況・健康状態!$A$3:$H$42,8))","v":""}]
[null," 《総合所見》"]
[null,null,{"$f":"IF(VLOOKUP($I$1,所見・資格表彰など!$A$3:$H$42,8)=\"\",\"\",VLOOKUP($I$1,所見・資格表彰など!$A$3:$H$42,8))","v":""}]
[]
[null,null,null,"上記の記載事項に誤りのないことを証明する"]
[]
[null,null,null,null,"令和",null,{"$f":"学校情報!E9","v":0},null,null,"年",null,{"$f":"学校情報!G9","v":0},null,null,"月",null,{"$f":"学校情報!I9","v":0},null,null,"日"]
[null,null,null,null,null,null,null,null,null,null,null,null,null,null,null,null,null,null,null,null,null,"記載責任者"]
[null,null,null,null,null,null,{"$f":"学校情報!D11","v":0},null,null,null,null,null,null,null,null,null,null,null,"校長\n職印",null,null,null,null,{"$f":"学校情報!D13","v":0}]
[null,null,null,"校長氏名",null,null,null,null,null,null,null,null,null,null,null,null,null,null,null,null,null,"氏　名",null,null,null,null,null,null,null,"印"]
[]
[]
[null,"　※この用紙は、宮崎県内私立高校共通のものです。"]

{"sheet":"学校情報","index":2,"n_rows":17,"n_cols":10,"rows_kept":17,"cut":false,"hidden":false,"merged":[[2,3,2,5],[10,3,10,5],[12,3,12,5],[14,3,14,5]]}
[]
[]
[null,"■中学校名",null,null,null,null,"学校（「〇〇中」まで入力）"]
[]
[null,"■入学",null,"令和",null,"年",4,"月",1,"日"]
[]
[null,"■卒業・卒業見込",null,"令和",null,"年",3,"月",null,"日"]
[]
[null,"■提出日付",null,"令和",null,"年",null,"月",null,"日"]
[]
[null,"■校長名"]
[]
[null,"■記載責任者名"]
[]
[null,"■入試年度（令和）",null,7]
[]
[null,"※不明な点は　宮崎県私立中学高等学校協会（0985-29-5288）までお願いします。"]

{"sheet":"生徒基礎情報","index":3,"n_rows":41,"n_cols":14,"rows_kept":41,"cut":false,"hidden":false,"merged":[]}
["出席番号","通し番号\n(※昇順)","よみがな","氏名","性別","生年月日",null,"入学","転入学","卒業","卒業\n見込","連続\n印刷"]
[1,1,null,null,null,null,null,null,null,null,null,null,null,"１．連続印刷の「印刷対象」について"]
[2,2,null,null,null,null,null,null,null,null,null,null,null,"　・印刷対象生徒は、\"1\"を入力します。"]
[3,3,null,null,null,null,null,null,null,null,null,null,null,"　・印刷しない生徒は、\"0\"を入力します。"]
[4,4]
[5,5,null,null,null,null,null,null,null,null,null,null,null,"２．「生年月日」の入力の仕方について"]
[6,6,null,null,null,null,null,null,null,null,null,null,null,"　・必ず日付形式（0000/00/00）で入力してください。（※文字列扱いにならないように）"]
[7,7,null,null,null,null,null,null,null,null,null,null,null,"　・入力された生年月日をクリックすると数式バーには「****/**/**」と表示されます。"]
[8,8,null,null,null,null,null,null,null,null,null,null,null,"　・数式バーに、セル内の値がそのまま表示されている場合は、NGです。"]
[9,9]
[10,10,null,null,null,null,null,null,null,null,null,null,null,"３．各シートで・・・"]
[11,11,null,null,null,null,null,null,null,null,null,null,null,"　・「通し番号」は必ず昇順になるようにしてください。"]
[12,12,null,null,null,null,null,null,null,null,null,null,null,"　・空きセルはすべて、何も入力されていない状態にしてください。"]
[13,13,null,null,null,null,null,null,null,null,null,null,null,"　・列や行を挿入したり削除したりしてはいけません。"]
[14,14,null,null,null,null,null,null,null,null,null,null,null,"　・データのコピー→貼り付けはOKですが、貼り付け時は「値のみ貼り付け」にしたほうが賢明です。"]
[15,15]
[16,16]
[17,17]
[18,18]
[19,19]
[20,20]
[21,21]
[22,22]
[23,23]
[24,24]
[25,25]
[26,26]
[27,27]
[28,28]
[29,29]
[30,30]
[31,31]
[32,32]
[33,33]
[34,34]
[35,35]
[36,36]
[37,37]
[38,38]
[39,39]
[40,40]

{"sheet":"評定","index":4,"n_rows":42,"n_cols":31,"rows_kept":42,"cut":false,"hidden":false,"merged":[[0,0,1,0],[0,1,1,1],[0,2,0,10],[0,12,0,20],[0,22,0,30]]}
["通し番号","氏名","1年評定",null,null,null,null,null,null,null,null,null,"2年評定",null,null,null,null,null,null,null,null,null,"3年評定"]
[null,null,"国","社","数","理","音","美","保","技","外",null,"国","社","数","理","音","美","保","技","外",null,"国","社","数","理","音","美","保","技","外"]
[1,{"$f":"IF(生徒基礎情報!D2=\"\",\"\",生徒基礎情報!D2)","v":""}]
[2,{"$f":"IF(生徒基礎情報!D3=\"\",\"\",生徒基礎情報!D3)","v":""}]
[3,{"$f":"IF(生徒基礎情報!D4=\"\",\"\",生徒基礎情報!D4)","v":""}]
[4,{"$f":"IF(生徒基礎情報!D5=\"\",\"\",生徒基礎情報!D5)","v":""}]
[5,{"$f":"IF(生徒基礎情報!D6=\"\",\"\",生徒基礎情報!D6)","v":""}]
[6,{"$f":"IF(生徒基礎情報!D7=\"\",\"\",生徒基礎情報!D7)","v":""}]
[7,{"$f":"IF(生徒基礎情報!D8=\"\",\"\",生徒基礎情報!D8)","v":""}]
[8,{"$f":"IF(生徒基礎情報!D9=\"\",\"\",生徒基礎情報!D9)","v":""}]
[9,{"$f":"IF(生徒基礎情報!D10=\"\",\"\",生徒基礎情報!D10)","v":""}]
[10,{"$f":"IF(生徒基礎情報!D11=\"\",\"\",生徒基礎情報!D11)","v":""}]
[11,{"$f":"IF(生徒基礎情報!D12=\"\",\"\",生徒基礎情報!D12)","v":""}]
[12,{"$f":"IF(生徒基礎情報!D13=\"\",\"\",生徒基礎情報!D13)","v":""}]
[13,{"$f":"IF(生徒基礎情報!D14=\"\",\"\",生徒基礎情報!D14)","v":""}]
[14,{"$f":"IF(生徒基礎情報!D15=\"\",\"\",生徒基礎情報!D15)","v":""}]
[15,{"$f":"IF(生徒基礎情報!D16=\"\",\"\",生徒基礎情報!D16)","v":""}]
[16,{"$f":"IF(生徒基礎情報!D17=\"\",\"\",生徒基礎情報!D17)","v":""}]
[17,{"$f":"IF(生徒基礎情報!D18=\"\",\"\",生徒基礎情報!D18)","v":""}]
[18,{"$f":"IF(生徒基礎情報!D19=\"\",\"\",生徒基礎情報!D19)","v":""}]
[19,{"$f":"IF(生徒基礎情報!D20=\"\",\"\",生徒基礎情報!D20)","v":""}]
[20,{"$f":"IF(生徒基礎情報!D21=\"\",\"\",生徒基礎情報!D21)","v":""}]
[21,{"$f":"IF(生徒基礎情報!D22=\"\",\"\",生徒基礎情報!D22)","v":""}]
[22,{"$f":"IF(生徒基礎情報!D23=\"\",\"\",生徒基礎情報!D23)","v":""}]
[23,{"$f":"IF(生徒基礎情報!D24=\"\",\"\",生徒基礎情報!D24)","v":""}]
[24,{"$f":"IF(生徒基礎情報!D25=\"\",\"\",生徒基礎情報!D25)","v":""}]
[25,{"$f":"IF(生徒基礎情報!D26=\"\",\"\",生徒基礎情報!D26)","v":""}]
[26,{"$f":"IF(生徒基礎情報!D27=\"\",\"\",生徒基礎情報!D27)","v":""}]
[27,{"$f":"IF(生徒基礎情報!D28=\"\",\"\",生徒基礎情報!D28)","v":""}]
[28,{"$f":"IF(生徒基礎情報!D29=\"\",\"\",生徒基礎情報!D29)","v":""}]
[29,{"$f":"IF(生徒基礎情報!D30=\"\",\"\",生徒基礎情報!D30)","v":""}]
[30,{"$f":"IF(生徒基礎情報!D31=\"\",\"\",生徒基礎情報!D31)","v":""}]
[31,{"$f":"IF(生徒基礎情報!D32=\"\",\"\",生徒基礎情報!D32)","v":""}]
[32,{"$f":"IF(生徒基礎情報!D33=\"\",\"\",生徒基礎情報!D33)","v":""}]
[33,{"$f":"IF(生徒基礎情報!D34=\"\",\"\",生徒基礎情報!D34)","v":""}]
[34,{"$f":"IF(生徒基礎情報!D35=\"\",\"\",生徒基礎情報!D35)","v":""}]
[35,{"$f":"IF(生徒基礎情報!D36=\"\",\"\",生徒基礎情報!D36)","v":""}]
[36,{"$f":"IF(生徒基礎情報!D37=\"\",\"\",生徒基礎情報!D37)","v":""}]
[37,{"$f":"IF(生徒基礎情報!D38=\"\",\"\",生徒基礎情報!D38)","v":""}]
[38,{"$f":"IF(生徒基礎情報!D39=\"\",\"\",生徒基礎情報!D39)","v":""}]
[39,{"$f":"IF(生徒基礎情報!D40=\"\",\"\",生徒基礎情報!D40)","v":""}]
[40,{"$f":"IF(生徒基礎情報!D41=\"\",\"\",生徒基礎情報!D41)","v":""}]

{"sheet":"出席状況・健康状態","index":5,"n_rows":42,"n_cols":8,"rows_kept":42,"cut":false,"hidden":false,"merged":[[0,0,1,0],[0,1,1,1],[0,2,0,7]]}
["通し番号","氏名","欠席の主な理由\n※遅刻早退がそれぞれ年間10日間以上ある場合はその回数と理由"]
[null,null,"１年","1年","２年","2年","３年","3年"]
[1,{"$f":"IF(生徒基礎情報!D2=\"\",\"\",生徒基礎情報!D2)","v":""}]
[2,{"$f":"IF(生徒基礎情報!D3=\"\",\"\",生徒基礎情報!D3)","v":""}]
[3,{"$f":"IF(生徒基礎情報!D4=\"\",\"\",生徒基礎情報!D4)","v":""}]
[4,{"$f":"IF(生徒基礎情報!D5=\"\",\"\",生徒基礎情報!D5)","v":""}]
[5,{"$f":"IF(生徒基礎情報!D6=\"\",\"\",生徒基礎情報!D6)","v":""}]
[6,{"$f":"IF(生徒基礎情報!D7=\"\",\"\",生徒基礎情報!D7)","v":""}]
[7,{"$f":"IF(生徒基礎情報!D8=\"\",\"\",生徒基礎情報!D8)","v":""}]
[8,{"$f":"IF(生徒基礎情報!D9=\"\",\"\",生徒基礎情報!D9)","v":""}]
[9,{"$f":"IF(生徒基礎情報!D10=\"\",\"\",生徒基礎情報!D10)","v":""}]
[10,{"$f":"IF(生徒基礎情報!D11=\"\",\"\",生徒基礎情報!D11)","v":""}]
[11,{"$f":"IF(生徒基礎情報!D12=\"\",\"\",生徒基礎情報!D12)","v":""}]
[12,{"$f":"IF(生徒基礎情報!D13=\"\",\"\",生徒基礎情報!D13)","v":""}]
[13,{"$f":"IF(生徒基礎情報!D14=\"\",\"\",生徒基礎情報!D14)","v":""}]
[14,{"$f":"IF(生徒基礎情報!D15=\"\",\"\",生徒基礎情報!D15)","v":""}]
[15,{"$f":"IF(生徒基礎情報!D16=\"\",\"\",生徒基礎情報!D16)","v":""}]
[16,{"$f":"IF(生徒基礎情報!D17=\"\",\"\",生徒基礎情報!D17)","v":""}]
[17,{"$f":"IF(生徒基礎情報!D18=\"\",\"\",生徒基礎情報!D18)","v":""}]
[18,{"$f":"IF(生徒基礎情報!D19=\"\",\"\",生徒基礎情報!D19)","v":""}]
[19,{"$f":"IF(生徒基礎情報!D20=\"\",\"\",生徒基礎情報!D20)","v":""}]
[20,{"$f":"IF(生徒基礎情報!D21=\"\",\"\",生徒基礎情報!D21)","v":""}]
[21,{"$f":"IF(生徒基礎情報!D22=\"\",\"\",生徒基礎情報!D22)","v":""}]
[22,{"$f":"IF(生徒基礎情報!D23=\"\",\"\",生徒基礎情報!D23)","v":""}]
[23,{"$f":"IF(生徒基礎情報!D24=\"\",\"\",生徒基礎情報!D24)","v":""}]
[24,{"$f":"IF(生徒基礎情報!D25=\"\",\"\",生徒基礎情報!D25)","v":""}]
[25,{"$f":"IF(生徒基礎情報!D26=\"\",\"\",生徒基礎情報!D26)","v":""}]
[26,{"$f":"IF(生徒基礎情報!D27=\"\",\"\",生徒基礎情報!D27)","v":""}]
[27,{"$f":"IF(生徒基礎情報!D28=\"\",\"\",生徒基礎情報!D28)","v":""}]
[28,{"$f":"IF(生徒基礎情報!D29=\"\",\"\",生徒基礎情報!D29)","v":""}]
[29,{"$f":"IF(生徒基礎情報!D30=\"\",\"\",生徒基礎情報!D30)","v":""}]
[30,{"$f":"IF(生徒基礎情報!D31=\"\",\"\",生徒基礎情報!D31)","v":""}]
[31,{"$f":"IF(生徒基礎情報!D32=\"\",\"\",生徒基礎情報!D32)","v":""}]
[32,{"$f":"IF(生徒基礎情報!D33=\"\",\"\",生徒基礎情報!D33)","v":""}]
[33,{"$f":"IF(生徒基礎情報!D34=\"\",\"\",生徒基礎情報!D34)","v":""}]
[34,{"$f":"IF(生徒基礎情報!D35=\"\",\"\",生徒基礎情報!D35)","v":""}]
[35,{"$f":"IF(生徒基礎情報!D36=\"\",\"\",生徒基礎情報!D36)","v":""}]
[36,{"$f":"IF(生徒基礎情報!D37=\"\",\"\",生徒基礎情報!D37)","v":""}]
[37,{"$f":"IF(生徒基礎情報!D38=\"\",\"\",生徒基礎情報!D38)","v":""}]
[38,{"$f":"IF(生徒基礎情報!D39=\"\",\"\",生徒基礎情報!D39)","v":""}]
[39,{"$f":"IF(生徒基礎情報!D40=\"\",\"\",生徒基礎情報!D40)","v":""}]
[40,{"$f":"IF(生徒基礎情報!D41=\"\",\"\",生徒基礎情報!D41)","v":""}]

{"sheet":"所見・資格表彰など","index":6,"n_rows":42,"n_cols":9,"rows_kept":42,"cut":false,"hidden":false,"merged":[[0,2,0,7]]}
["通し番号","氏名","私立用（セル内の改行は「Alt ＋ Enter」で可能です）"]
[null,null,"部活動等","奉仕活動等","資格・特技等","学級・生徒会活動等","健康状態","総合所見","200文字程度"]
[1,{"$f":"IF(生徒基礎情報!D2=\"\",\"\",生徒基礎情報!D2)","v":""},null,null,null,null,null,null,{"$f":"LEN(H3)","v":0}]
[2,{"$f":"IF(生徒基礎情報!D3=\"\",\"\",生徒基礎情報!D3)","v":""},null,null,null,null,null,null,0]
[3,{"$f":"IF(生徒基礎情報!D4=\"\",\"\",生徒基礎情報!D4)","v":""},null,null,null,null,null,null,0]
[4,{"$f":"IF(生徒基礎情報!D5=\"\",\"\",生徒基礎情報!D5)","v":""},null,null,null,null,null,null,0]
[5,{"$f":"IF(生徒基礎情報!D6=\"\",\"\",生徒基礎情報!D6)","v":""},null,null,null,null,null,null,0]
[6,{"$f":"IF(生徒基礎情報!D7=\"\",\"\",生徒基礎情報!D7)","v":""},null,null,null,null,null,null,0]
[7,{"$f":"IF(生徒基礎情報!D8=\"\",\"\",生徒基礎情報!D8)","v":""},null,null,null,null,null,null,0]
[8,{"$f":"IF(生徒基礎情報!D9=\"\",\"\",生徒基礎情報!D9)","v":""},null,null,null,null,null,null,0]
[9,{"$f":"IF(生徒基礎情報!D10=\"\",\"\",生徒基礎情報!D10)","v":""},null,null,null,null,null,null,0]
[10,{"$f":"IF(生徒基礎情報!D11=\"\",\"\",生徒基礎情報!D11)","v":""},null,null,null,null,null,null,0]
[11,{"$f":"IF(生徒基礎情報!D12=\"\",\"\",生徒基礎情報!D12)","v":""},null,null,null,null,null,null,0]
[12,{"$f":"IF(生徒基礎情報!D13=\"\",\"\",生徒基礎情報!D13)","v":""},null,null,null,null,null,null,0]
[13,{"$f":"IF(生徒基礎情報!D14=\"\",\"\",生徒基礎情報!D14)","v":""},null,null,null,null,null,null,0]
[14,{"$f":"IF(生徒基礎情報!D15=\"\",\"\",生徒基礎情報!D15)","v":""},null,null,null,null,null,null,0]
[15,{"$f":"IF(生徒基礎情報!D16=\"\",\"\",生徒基礎情報!D16)","v":""},null,null,null,null,null,null,0]
[16,{"$f":"IF(生徒基礎情報!D17=\"\",\"\",生徒基礎情報!D17)","v":""},null,null,null,null,null,null,0]
[17,{"$f":"IF(生徒基礎情報!D18=\"\",\"\",生徒基礎情報!D18)","v":""},null,null,null,null,null,null,0]
[18,{"$f":"IF(生徒基礎情報!D19=\"\",\"\",生徒基礎情報!D19)","v":""},null,null,null,null,null,null,0]
[19,{"$f":"IF(生徒基礎情報!D20=\"\",\"\",生徒基礎情報!D20)","v":""},null,null,null,null,null,null,0]
[20,{"$f":"IF(生徒基礎情報!D21=\"\",\"\",生徒基礎情報!D21)","v":""},null,null,null,null,null,null,0]
[21,{"$f":"IF(生徒基礎情報!D22=\"\",\"\",生徒基礎情報!D22)","v":""},null,null,null,null,null,null,0]
[22,{"$f":"IF(生徒基礎情報!D23=\"\",\"\",生徒基礎情報!D23)","v":""},null,null,null,null,null,null,0]
[23,{"$f":"IF(生徒基礎情報!D24=\"\",\"\",生徒基礎情報!D24)","v":""},null,null,null,null,null,null,0]
[24,{"$f":"IF(生徒基礎情報!D25=\"\",\"\",生徒基礎情報!D25)","v":""},null,null,null,null,null,null,0]
[25,{"$f":"IF(生徒基礎情報!D26=\"\",\"\",生徒基礎情報!D26)","v":""},null,null,null,null,null,null,0]
[26,{"$f":"IF(生徒基礎情報!D27=\"\",\"\",生徒基礎情報!D27)","v":""},null,null,null,null,null,null,0]
[27,{"$f":"IF(生徒基礎情報!D28=\"\",\"\",生徒基礎情報!D28)","v":""},null,null,null,null,null,null,0]
[28,{"$f":"IF(生徒基礎情報!D29=\"\",\"\",生徒基礎情報!D29)","v":""},null,null,null,null,null,null,0]
[29,{"$f":"IF(生徒基礎情報!D30=\"\",\"\",生徒基礎情報!D30)","v":""},null,null,null,null,null,null,0]
[30,{"$f":"IF(生徒基礎情報!D31=\"\",\"\",生徒基礎情報!D31)","v":""},null,null,null,null,null,null,0]
[31,{"$f":"IF(生徒基礎情報!D32=\"\",\"\",生徒基礎情報!D32)","v":""},null,null,null,null,null,null,0]
[32,{"$f":"IF(生徒基礎情報!D33=\"\",\"\",生徒基礎情報!D33)","v":""},null,null,null,null,null,null,0]
[33,{"$f":"IF(生徒基礎情報!D34=\"\",\"\",生徒基礎情報!D34)","v":""},null,null,null,null,null,null,0]
[34,{"$f":"IF(生徒基礎情報!D35=\"\",\"\",生徒基礎情報!D35)","v":""},null,null,null,null,null,null,0]
[35,{"$f":"IF(生徒基礎情報!D36=\"\",\"\",生徒基礎情報!D36)","v":""},null,null,null,null,null,null,0]
[36,{"$f":"IF(生徒基礎情報!D37=\"\",\"\",生徒基礎情報!D37)","v":""},null,null,null,null,null,null,0]
[37,{"$f":"IF(生徒基礎情報!D38=\"\",\"\",生徒基礎情報!D38)","v":""},null,null,null,null,null,null,0]
[38,{"$f":"IF(生徒基礎情報!D39=\"\",\"\",生徒基礎情報!D39)","v":""},null,null,null,null,null,null,0]
[39,{"$f":"IF(生徒基礎情報!D40=\"\",\"\",生徒基礎情報!D40)","v":""},null,null,null,null,null,null,0]
[40,{"$f":"IF(生徒基礎情報!D41=\"\",\"\",生徒基礎情報!D41)","v":""}]